BEGIN:VCALENDAR
VERSION:2.0
PRODID:-//Torneitos//NONSGML v1.0//ES
CALSCALE:GREGORIAN
BEGIN:VEVENT
UID:756b31cad3b9bf360d465f5e1c9c5ec6@torneitos.com
DTSTAMP:20260422T141634Z
DTSTART;VALUE=DATE:20260628
DTEND;VALUE=DATE:20260705
SUMMARY:Bahía de Cádiz Futsal Cup
DESCRIPTION:Torneo de fútbol base. Más info: https://torneitos.com/torneo/bahia-de-cadiz-futsal-cup/
LOCATION:Bahía de Cádiz
END:VEVENT
END:VCALENDAR