BEGIN:VCALENDAR
VERSION:2.0
PRODID:-//Torneitos//NONSGML v1.0//ES
CALSCALE:GREGORIAN
BEGIN:VEVENT
UID:7bf5aec357b2b87a136852fcb892fe2b@torneitos.com
DTSTAMP:20260421T133735Z
DTSTART;VALUE=DATE:20260627
DTEND;VALUE=DATE:20260629
SUMMARY:Torneo de Verano Guadalajara C. F.
DESCRIPTION:Torneo de fútbol base. Más info: https://torneitos.com/torneo/torneo-de-verano-guadalajara-c-f/
LOCATION:Campo de fútbol Fuente de la Niña
END:VEVENT
END:VCALENDAR