BEGIN:VCALENDAR
VERSION:2.0
PRODID:-//Torneitos//NONSGML v1.0//ES
CALSCALE:GREGORIAN
BEGIN:VEVENT
UID:8ee2a34eea09384270ed300a719081a6@torneitos.com
DTSTAMP:20260423T120739Z
DTSTART;VALUE=DATE:20260618
DTEND;VALUE=DATE:20260622
SUMMARY:Torneo Femenino Levante UD International CUP
DESCRIPTION:Torneo de fútbol base. Más info: https://torneitos.com/torneo/torneo-femenino-levante-ud-international-cup/
LOCATION:Ciudad Deportiva Levante UD
END:VEVENT
END:VCALENDAR