BEGIN:VCALENDAR
VERSION:2.0
PRODID:-//Torneitos//NONSGML v1.0//ES
CALSCALE:GREGORIAN
BEGIN:VEVENT
UID:1fd3c9f049b0a418bd22a8f155bef7cf@torneitos.com
DTSTAMP:20260423T121706Z
DTSTART;VALUE=DATE:20260618
DTEND;VALUE=DATE:20260622
SUMMARY:Torneo Levante UD International CUP
DESCRIPTION:Torneo de fútbol base. Más info: https://torneitos.com/torneo/torneo-levante-ud-international-cup/
LOCATION:Ciudad Deportiva Levante UD
END:VEVENT
END:VCALENDAR