BEGIN:VCALENDAR
VERSION:2.0
PRODID:-//Torneitos//NONSGML v1.0//ES
CALSCALE:GREGORIAN
BEGIN:VEVENT
UID:0eeab13dd38ad0416f26d5b18cc7014d@torneitos.com
DTSTAMP:20260423T120444Z
DTSTART;VALUE=DATE:20260625
DTEND;VALUE=DATE:20260629
SUMMARY:Tournament FIT26 «Summer edition»
DESCRIPTION:Torneo de fútbol base. Más info: https://torneitos.com/torneo/tournament-fit26/
LOCATION:Maresme\, Barcelona
END:VEVENT
END:VCALENDAR